Workbook

Sheet How to use
B2: Customer account template
B3: Pirdir · pirdir.com · Free template
B5: 1. On the "Accounts" sheet, enter your customers and suppliers with their usual payment terms in days.
B6: 2. On the "Transactions" sheet, enter the invoices you issue in the Debit column and the payments you receive in the Credit column.
B7: 3. The due date, balance and overdue status calculate automatically.
B8: 4. Invoice rows that are past due and unpaid turn orange.
B10: Fill in the orange cells. The other columns are formulas, so don’t type over them.
B12: If the spreadsheet starts to feel tight as your team grows: pirdir.com — we move the same structure into software with multiple users and reminders that also works on your phone.

Sheet Accounts
A1: Account name | B1: Phone | C1: Terms (days) | D1: Total invoiced | E1: Total received | F1: Balance | G1: Last transaction
A2: Ironside Build Ltd | B2: +44 20 7946 0000 | C2: 30 | D2: =IF(A2="","",SUMIFS(Transactions!$D:$D,Transactions!$B:$B,A2)) -> 1250 | E2: =IF(A2="","",SUMIFS(Transactions!$E:$E,Transactions!$B:$B,A2)) -> 800 | F2: =IF(A2="","",D2-E2) -> 450 | G2: =IF(A2="","",IF(COUNTIF(Transactions!$B:$B,A2)=0,"",_xlfn.MAXIFS(Transactions!$A:$A,Transactions!$B:$B,A2))) -> 46298
D3: =IF(A3="","",SUMIFS(Transactions!$D:$D,Transactions!$B:$B,A3)) | E3: =IF(A3="","",SUMIFS(Transactions!$E:$E,Transactions!$B:$B,A3)) | F3: =IF(A3="","",D3-E3) | G3: =IF(A3="","",IF(COUNTIF(Transactions!$B:$B,A3)=0,"",_xlfn.MAXIFS(Transactions!$A:$A,Transactions!$B:$B,A3)))
D4: =IF(A4="","",SUMIFS(Transactions!$D:$D,Transactions!$B:$B,A4)) | E4: =IF(A4="","",SUMIFS(Transactions!$E:$E,Transactions!$B:$B,A4)) | F4: =IF(A4="","",D4-E4) | G4: =IF(A4="","",IF(COUNTIF(Transactions!$B:$B,A4)=0,"",_xlfn.MAXIFS(Transactions!$A:$A,Transactions!$B:$B,A4)))
D5: =IF(A5="","",SUMIFS(Transactions!$D:$D,Transactions!$B:$B,A5)) | E5: =IF(A5="","",SUMIFS(Transactions!$E:$E,Transactions!$B:$B,A5)) | F5: =IF(A5="","",D5-E5) | G5: =IF(A5="","",IF(COUNTIF(Transactions!$B:$B,A5)=0,"",_xlfn.MAXIFS(Transactions!$A:$A,Transactions!$B:$B,A5)))
D6: =IF(A6="","",SUMIFS(Transactions!$D:$D,Transactions!$B:$B,A6)) | E6: =IF(A6="","",SUMIFS(Transactions!$E:$E,Transactions!$B:$B,A6)) | F6: =IF(A6="","",D6-E6) | G6: =IF(A6="","",IF(COUNTIF(Transactions!$B:$B,A6)=0,"",_xlfn.MAXIFS(Transactions!$A:$A,Transactions!$B:$B,A6)))
D7: =IF(A7="","",SUMIFS(Transactions!$D:$D,Transactions!$B:$B,A7)) | E7: =IF(A7="","",SUMIFS(Transactions!$E:$E,Transactions!$B:$B,A7)) | F7: =IF(A7="","",D7-E7) | G7: =IF(A7="","",IF(COUNTIF(Transactions!$B:$B,A7)=0,"",_xlfn.MAXIFS(Transactions!$A:$A,Transactions!$B:$B,A7)))
D8: =IF(A8="","",SUMIFS(Transactions!$D:$D,Transactions!$B:$B,A8)) | E8: =IF(A8="","",SUMIFS(Transactions!$E:$E,Transactions!$B:$B,A8)) | F8: =IF(A8="","",D8-E8) | G8: =IF(A8="","",IF(COUNTIF(Transactions!$B:$B,A8)=0,"",_xlfn.MAXIFS(Transactions!$A:$A,Transactions!$B:$B,A8)))
D9: =IF(A9="","",SUMIFS(Transactions!$D:$D,Transactions!$B:$B,A9)) | E9: =IF(A9="","",SUMIFS(Transactions!$E:$E,Transactions!$B:$B,A9)) | F9: =IF(A9="","",D9-E9) | G9: =IF(A9="","",IF(COUNTIF(Transactions!$B:$B,A9)=0,"",_xlfn.MAXIFS(Transactions!$A:$A,Transactions!$B:$B,A9)))
D10: =IF(A10="","",SUMIFS(Transactions!$D:$D,Transactions!$B:$B,A10)) | E10: =IF(A10="","",SUMIFS(Transactions!$E:$E,Transactions!$B:$B,A10)) | F10: =IF(A10="","",D10-E10) | G10: =IF(A10="","",IF(COUNTIF(Transactions!$B:$B,A10)=0,"",_xlfn.MAXIFS(Transactions!$A:$A,Transactions!$B:$B,A10)))
D11: =IF(A11="","",SUMIFS(Transactions!$D:$D,Transactions!$B:$B,A11)) | E11: =IF(A11="","",SUMIFS(Transactions!$E:$E,Transactions!$B:$B,A11)) | F11: =IF(A11="","",D11-E11) | G11: =IF(A11="","",IF(COUNTIF(Transactions!$B:$B,A11)=0,"",_xlfn.MAXIFS(Transactions!$A:$A,Transactions!$B:$B,A11)))
D12: =IF(A12="","",SUMIFS(Transactions!$D:$D,Transactions!$B:$B,A12)) | E12: =IF(A12="","",SUMIFS(Transactions!$E:$E,Transactions!$B:$B,A12)) | F12: =IF(A12="","",D12-E12) | G12: =IF(A12="","",IF(COUNTIF(Transactions!$B:$B,A12)=0,"",_xlfn.MAXIFS(Transactions!$A:$A,Transactions!$B:$B,A12)))
D13: =IF(A13="","",SUMIFS(Transactions!$D:$D,Transactions!$B:$B,A13)) | E13: =IF(A13="","",SUMIFS(Transactions!$E:$E,Transactions!$B:$B,A13)) | F13: =IF(A13="","",D13-E13) | G13: =IF(A13="","",IF(COUNTIF(Transactions!$B:$B,A13)=0,"",_xlfn.MAXIFS(Transactions!$A:$A,Transactions!$B:$B,A13)))
D14: =IF(A14="","",SUMIFS(Transactions!$D:$D,Transactions!$B:$B,A14)) | E14: =IF(A14="","",SUMIFS(Transactions!$E:$E,Transactions!$B:$B,A14)) | F14: =IF(A14="","",D14-E14) | G14: =IF(A14="","",IF(COUNTIF(Transactions!$B:$B,A14)=0,"",_xlfn.MAXIFS(Transactions!$A:$A,Transactions!$B:$B,A14)))
... D300: =IF(A300="","",SUMIFS(Transactions!$D:$D,Transactions!$B:$B,A300)) | E300: =IF(A300="","",SUMIFS(Transactions!$E:$E,Transactions!$B:$B,A300)) | F300: =IF(A300="","",D300-E300) | G300: =IF(A300="","",IF(COUNTIF(Transactions!$B:$B,A300)=0,"",_xlfn.MAXIFS(Transactions!$A:$A,Transactions!$B:$B,A300)))

Sheet Transactions
A1: Date | B1: Account name | C1: Description | D1: Debit (invoice) | E1: Credit (payment) | F1: Due date | G1: Status
A2: 46296 | B2: Ironside Build Ltd | C2: Invoice #112 | D2: 1250 | F2: =IF(OR(A2="",D2=""),"",A2+IFERROR(INDEX(Accounts!$C:$C,MATCH(B2,Accounts!$A:$A,0)),0)) -> 46326 | G2: =IF(F2="","",IF(AND(F2<TODAY(),INDEX(Accounts!$F:$F,MATCH(B2,Accounts!$A:$A,0))>0),"Overdue","Not due")) -> Not due
A3: 46298 | B3: Ironside Build Ltd | C3: Bank transfer | E3: 800 | F3: =IF(OR(A3="",D3=""),"",A3+IFERROR(INDEX(Accounts!$C:$C,MATCH(B3,Accounts!$A:$A,0)),0)) | G3: =IF(F3="","",IF(AND(F3<TODAY(),INDEX(Accounts!$F:$F,MATCH(B3,Accounts!$A:$A,0))>0),"Overdue","Not due"))
F4: =IF(OR(A4="",D4=""),"",A4+IFERROR(INDEX(Accounts!$C:$C,MATCH(B4,Accounts!$A:$A,0)),0)) | G4: =IF(F4="","",IF(AND(F4<TODAY(),INDEX(Accounts!$F:$F,MATCH(B4,Accounts!$A:$A,0))>0),"Overdue","Not due"))
F5: =IF(OR(A5="",D5=""),"",A5+IFERROR(INDEX(Accounts!$C:$C,MATCH(B5,Accounts!$A:$A,0)),0)) | G5: =IF(F5="","",IF(AND(F5<TODAY(),INDEX(Accounts!$F:$F,MATCH(B5,Accounts!$A:$A,0))>0),"Overdue","Not due"))
F6: =IF(OR(A6="",D6=""),"",A6+IFERROR(INDEX(Accounts!$C:$C,MATCH(B6,Accounts!$A:$A,0)),0)) | G6: =IF(F6="","",IF(AND(F6<TODAY(),INDEX(Accounts!$F:$F,MATCH(B6,Accounts!$A:$A,0))>0),"Overdue","Not due"))
F7: =IF(OR(A7="",D7=""),"",A7+IFERROR(INDEX(Accounts!$C:$C,MATCH(B7,Accounts!$A:$A,0)),0)) | G7: =IF(F7="","",IF(AND(F7<TODAY(),INDEX(Accounts!$F:$F,MATCH(B7,Accounts!$A:$A,0))>0),"Overdue","Not due"))
F8: =IF(OR(A8="",D8=""),"",A8+IFERROR(INDEX(Accounts!$C:$C,MATCH(B8,Accounts!$A:$A,0)),0)) | G8: =IF(F8="","",IF(AND(F8<TODAY(),INDEX(Accounts!$F:$F,MATCH(B8,Accounts!$A:$A,0))>0),"Overdue","Not due"))
F9: =IF(OR(A9="",D9=""),"",A9+IFERROR(INDEX(Accounts!$C:$C,MATCH(B9,Accounts!$A:$A,0)),0)) | G9: =IF(F9="","",IF(AND(F9<TODAY(),INDEX(Accounts!$F:$F,MATCH(B9,Accounts!$A:$A,0))>0),"Overdue","Not due"))
F10: =IF(OR(A10="",D10=""),"",A10+IFERROR(INDEX(Accounts!$C:$C,MATCH(B10,Accounts!$A:$A,0)),0)) | G10: =IF(F10="","",IF(AND(F10<TODAY(),INDEX(Accounts!$F:$F,MATCH(B10,Accounts!$A:$A,0))>0),"Overdue","Not due"))
F11: =IF(OR(A11="",D11=""),"",A11+IFERROR(INDEX(Accounts!$C:$C,MATCH(B11,Accounts!$A:$A,0)),0)) | G11: =IF(F11="","",IF(AND(F11<TODAY(),INDEX(Accounts!$F:$F,MATCH(B11,Accounts!$A:$A,0))>0),"Overdue","Not due"))
F12: =IF(OR(A12="",D12=""),"",A12+IFERROR(INDEX(Accounts!$C:$C,MATCH(B12,Accounts!$A:$A,0)),0)) | G12: =IF(F12="","",IF(AND(F12<TODAY(),INDEX(Accounts!$F:$F,MATCH(B12,Accounts!$A:$A,0))>0),"Overdue","Not due"))
F13: =IF(OR(A13="",D13=""),"",A13+IFERROR(INDEX(Accounts!$C:$C,MATCH(B13,Accounts!$A:$A,0)),0)) | G13: =IF(F13="","",IF(AND(F13<TODAY(),INDEX(Accounts!$F:$F,MATCH(B13,Accounts!$A:$A,0))>0),"Overdue","Not due"))
F14: =IF(OR(A14="",D14=""),"",A14+IFERROR(INDEX(Accounts!$C:$C,MATCH(B14,Accounts!$A:$A,0)),0)) | G14: =IF(F14="","",IF(AND(F14<TODAY(),INDEX(Accounts!$F:$F,MATCH(B14,Accounts!$A:$A,0))>0),"Overdue","Not due"))
F15: =IF(OR(A15="",D15=""),"",A15+IFERROR(INDEX(Accounts!$C:$C,MATCH(B15,Accounts!$A:$A,0)),0)) | G15: =IF(F15="","",IF(AND(F15<TODAY(),INDEX(Accounts!$F:$F,MATCH(B15,Accounts!$A:$A,0))>0),"Overdue","Not due"))
... F300: =IF(OR(A300="",D300=""),"",A300+IFERROR(INDEX(Accounts!$C:$C,MATCH(B300,Accounts!$A:$A,0)),0)) | G300: =IF(F300="","",IF(AND(F300<TODAY(),INDEX(Accounts!$F:$F,MATCH(B300,Accounts!$A:$A,0))>0),"Overdue","Not due"))
